BEGIN:VCALENDAR
VERSION:2.0
PRODID:-//BMX Austria - ECPv5.14.1//NONSGML v1.0//EN
CALSCALE:GREGORIAN
METHOD:PUBLISH
X-WR-CALNAME:BMX Austria
X-ORIGINAL-URL:https://www.bmx-austria.com
X-WR-CALDESC:Veranstaltungen für BMX Austria
REFRESH-INTERVAL;VALUE=DURATION:PT1H
X-Robots-Tag:noindex
X-PUBLISHED-TTL:PT1H
BEGIN:VTIMEZONE
TZID:Europe/Berlin
BEGIN:DAYLIGHT
TZOFFSETFROM:+0100
TZOFFSETTO:+0200
TZNAME:CEST
DTSTART:20240331T010000
END:DAYLIGHT
BEGIN:STANDARD
TZOFFSETFROM:+0200
TZOFFSETTO:+0100
TZNAME:CET
DTSTART:20241027T010000
END:STANDARD
BEGIN:DAYLIGHT
TZOFFSETFROM:+0100
TZOFFSETTO:+0200
TZNAME:CEST
DTSTART:20250330T010000
END:DAYLIGHT
BEGIN:STANDARD
TZOFFSETFROM:+0200
TZOFFSETTO:+0100
TZNAME:CET
DTSTART:20251026T010000
END:STANDARD
END:VTIMEZONE
BEGIN:VEVENT
DTSTART;TZID=Europe/Berlin:20251011T080000
DTEND;TZID=Europe/Berlin:20251012T170000
DTSTAMP:20260425T130458
CREATED:20250513T112803Z
LAST-MODIFIED:20250513T112855Z
UID:725-1760169600-1760288400@www.bmx-austria.com
SUMMARY:Dr. AUER Alpe Adria CUP 13. & 14. Rd. Vösendorf – (AUT) Final Race
DESCRIPTION:
URL:https://www.bmx-austria.com/event/dr-auer-alpe-adria-cup-13-14-rd-voesendorf-aut-final-race/
LOCATION:BMX Arena Vösendorf\, Kindbergstraße 12\, Vösendorf\, Niederösterreich\, 2331\, Österreich
CATEGORIES:BMX International
END:VEVENT
BEGIN:VEVENT
DTSTART;TZID=Europe/Berlin:20251004T080000
DTEND;TZID=Europe/Berlin:20251005T170000
DTSTAMP:20260425T130458
CREATED:20250513T112626Z
LAST-MODIFIED:20250513T112626Z
UID:723-1759564800-1759683600@www.bmx-austria.com
SUMMARY:Dr. AUER Alpe Adria CUP 11. & 12. Rd. Gencsapati – (HUN)
DESCRIPTION:
URL:https://www.bmx-austria.com/event/dr-auer-alpe-adria-cup-11-12-rd-gencsapati-hun/
LOCATION:BMX Gencsapati\, Ungarn
CATEGORIES:BMX International
END:VEVENT
BEGIN:VEVENT
DTSTART;TZID=Europe/Berlin:20250920T080000
DTEND;TZID=Europe/Berlin:20250921T170000
DTSTAMP:20260425T130458
CREATED:20250513T112456Z
LAST-MODIFIED:20250513T112506Z
UID:720-1758355200-1758474000@www.bmx-austria.com
SUMMARY:Dr. AUER Alpe Adria CUP 9. & 10. Rd. Baierdorf – (AUT)
DESCRIPTION:
URL:https://www.bmx-austria.com/event/dr-auer-alpe-adria-cup-9-10-rd-baierddorf-aut/
LOCATION:BMX Baierdorf\, Baierdorf-Umgebung 84\, 8184 Baierdorf-Umgebung
CATEGORIES:BMX International
END:VEVENT
BEGIN:VEVENT
DTSTART;TZID=Europe/Berlin:20250905T080000
DTEND;TZID=Europe/Berlin:20250907T170000
DTSTAMP:20260425T130458
CREATED:20250513T112215Z
LAST-MODIFIED:20250513T112215Z
UID:718-1757059200-1757264400@www.bmx-austria.com
SUMMARY:EUROPACUP Rd. 11 & 12 Benátky (CZE)
DESCRIPTION:
URL:https://www.bmx-austria.com/event/europacup-rd-11-12-benatky-cze/
LOCATION:BIKROSOVÝ AREÁL BENÁTKY NAD JIZEROU\, Tschechische Republik
CATEGORIES:BMX International
END:VEVENT
BEGIN:VEVENT
DTSTART;TZID=Europe/Berlin:20250816T080000
DTEND;TZID=Europe/Berlin:20250817T170000
DTSTAMP:20260425T130458
CREATED:20250513T112018Z
LAST-MODIFIED:20250513T112018Z
UID:716-1755331200-1755450000@www.bmx-austria.com
SUMMARY:Dr. AUER Alpe Adria CUP Rd. 07. & 08. and Dr. Auer Austrian BMX King&Queen – CA BMX Cup - Stmk. LM und NWC  2025 Mühlen – (AUT)
DESCRIPTION:
URL:https://www.bmx-austria.com/event/dr-auer-alpe-adria-cup-rd-07-08-and-dr-auer-austrian-bmx-kingqueen-ca-bmx-cup-stmk-lm-und-nwc-2025-muehlen-aut/
LOCATION:Dr. Auer BMX Arena Mühlen\, Mühlen\, Mühlen\, 8822\, Österreich
CATEGORIES:BMX International
ORGANIZER;CN="ASK%C3%96%20Dr.%20Auer%20BMX%20Racing%20Team%20Sport%20M%C3%BChlen":MAILTO:bmxkoxy@gmail.com
END:VEVENT
BEGIN:VEVENT
DTSTART;TZID=Europe/Berlin:20250728T080000
DTEND;TZID=Europe/Berlin:20250803T170000
DTSTAMP:20260425T130458
CREATED:20250513T111632Z
LAST-MODIFIED:20250513T111632Z
UID:711-1753689600-1754240400@www.bmx-austria.com
SUMMARY:UCI BMX Race World Championships 2025 Copenhagen (DEN)
DESCRIPTION:
URL:https://www.bmx-austria.com/event/uci-bmx-race-world-championships-2025-copenhagen-den/
LOCATION:Copenhagen BMX Club\, Ved Slusen 2\, 2300 København\, 2300\, Dänemark
CATEGORIES:BMX International
ORGANIZER;CN="K%C3%B8benhavns%20BMX%20Klub":MAILTO:WC2025BMX@cyklingdanmark.dk
END:VEVENT
BEGIN:VEVENT
DTSTART;TZID=Europe/Berlin:20250719T080000
DTEND;TZID=Europe/Berlin:20250720T170000
DTSTAMP:20260425T130458
CREATED:20250513T110520Z
LAST-MODIFIED:20250513T110520Z
UID:708-1752912000-1753030800@www.bmx-austria.com
SUMMARY:EUROPACUP Rd. 09 & 10 Ängelholm (SWE)
DESCRIPTION:
URL:https://www.bmx-austria.com/event/europacup-rd-09-10-aengelholm-swe/
LOCATION:BMX Arena Ängelholm\, Schweden
CATEGORIES:BMX International
END:VEVENT
BEGIN:VEVENT
DTSTART;TZID=Europe/Berlin:20250710T080000
DTEND;TZID=Europe/Berlin:20250713T170000
DTSTAMP:20260425T130458
CREATED:20250513T110129Z
LAST-MODIFIED:20250513T111736Z
UID:702-1752134400-1752426000@www.bmx-austria.com
SUMMARY:2025 UEC BMX RACING EUROPEAN CHAMPIONSHIPS Valmiera (LAT)
DESCRIPTION:
URL:https://www.bmx-austria.com/event/2025-uec-bmx-racing-european-championships/
LOCATION:BMX Arena Valmiera\, Lettland
CATEGORIES:BMX International
END:VEVENT
BEGIN:VEVENT
DTSTART;TZID=Europe/Berlin:20250705T080000
DTEND;TZID=Europe/Berlin:20250706T170000
DTSTAMP:20260425T130458
CREATED:20250513T105828Z
LAST-MODIFIED:20250513T105828Z
UID:700-1751702400-1751821200@www.bmx-austria.com
SUMMARY:Österreichische BMX Staatsmeisterschaft & Österr. Meisterschaft 2025 - Bludenz
DESCRIPTION:
URL:https://www.bmx-austria.com/event/oesterreichische-bmx-staatsmeisterschaft-oesterr-meisterschaft-2025-bludenz/
LOCATION:BMX Arena Bludenz\, Österreich
CATEGORIES:BMX National
END:VEVENT
BEGIN:VEVENT
DTSTART;TZID=Europe/Berlin:20250621T080000
DTEND;TZID=Europe/Berlin:20250622T170000
DTSTAMP:20260425T130458
CREATED:20250513T103918Z
LAST-MODIFIED:20250513T110327Z
UID:688-1750492800-1750611600@www.bmx-austria.com
SUMMARY:Dr. AUER Alpe Adria CUP 5. & 6. Rd. Ljubljana – (SLO)
DESCRIPTION:
URL:https://www.bmx-austria.com/event/dr-auer-alpe-adria-cup-3-4-rd-07-08-june-sopron-hun/
LOCATION:BMX ARENA Ljubljana\, Stolpniška ulica 1\, 1000 Ljubljana\, 1000
CATEGORIES:BMX International
END:VEVENT
BEGIN:VEVENT
DTSTART;TZID=Europe/Berlin:20250614T080000
DTEND;TZID=Europe/Berlin:20250615T170000
DTSTAMP:20260425T130458
CREATED:20250513T105532Z
LAST-MODIFIED:20250513T105532Z
UID:696-1749888000-1750006800@www.bmx-austria.com
SUMMARY:BMX-Weekend Bludenz AUT Arlberg Quellfrisch Open Deutschschweizer Meisterschaft
DESCRIPTION:
URL:https://www.bmx-austria.com/event/bmx-weekend-bludenz-aut-arlberg-quellfrisch-open-deutschschweizer-meisterschaft/
LOCATION:BMX Arena Bludenz\, Österreich
CATEGORIES:BMX International
END:VEVENT
BEGIN:VEVENT
DTSTART;TZID=Europe/Berlin:20250614T080000
DTEND;TZID=Europe/Berlin:20250615T170000
DTSTAMP:20260425T130458
CREATED:20250513T104728Z
LAST-MODIFIED:20250513T104728Z
UID:694-1749888000-1750006800@www.bmx-austria.com
SUMMARY:Cycling AUSTRIA BMX Racing CUP - Steirische LM & Nachwuchs Cup 2025 – Baierdorf Rd. 3 & Rd. 4
DESCRIPTION:
URL:https://www.bmx-austria.com/event/cycling-austria-bmx-racing-cup-steirische-lm-nachwuchs-cup-2025-baierdorf-rd-3-rd-4/
LOCATION:BMX Baierdorf\, Baierdorf-Umgebung 84\, 8184 Baierdorf-Umgebung
CATEGORIES:BMX National
END:VEVENT
BEGIN:VEVENT
DTSTART;TZID=Europe/Berlin:20250607T080000
DTEND;TZID=Europe/Berlin:20250608T170000
DTSTAMP:20260425T130458
CREATED:20250513T103942Z
LAST-MODIFIED:20250513T110301Z
UID:690-1749283200-1749402000@www.bmx-austria.com
SUMMARY:Dr. AUER Alpe Adria CUP 3. & 4. Rd. Sopron – (HUN)
DESCRIPTION:
URL:https://www.bmx-austria.com/event/dr-auer-alpe-adria-cup-3-4-rd-07-08-june-sopron-hun-2/
LOCATION:BMX Sopron\, 9400\, Sopron\, IV. László király u. 65\, 9400 Hungary\, 9400\, Ungarn
CATEGORIES:BMX International
END:VEVENT
BEGIN:VEVENT
DTSTART;TZID=Europe/Berlin:20250531T080000
DTEND;TZID=Europe/Berlin:20250601T170000
DTSTAMP:20260425T130458
CREATED:20250513T103605Z
LAST-MODIFIED:20250513T103605Z
UID:685-1748678400-1748797200@www.bmx-austria.com
SUMMARY:EUROPACUP Rd. 7 & 8 Tiel (NED)
DESCRIPTION:
URL:https://www.bmx-austria.com/event/europacup-rd-7-8-tiel-ned/
LOCATION:Niederösterreich
CATEGORIES:BMX International
END:VEVENT
BEGIN:VEVENT
DTSTART;TZID=Europe/Berlin:20250517T080000
DTEND;TZID=Europe/Berlin:20250518T170000
DTSTAMP:20260425T130458
CREATED:20250513T081918Z
LAST-MODIFIED:20250513T082300Z
UID:681-1747468800-1747587600@www.bmx-austria.com
SUMMARY:Cycling AUSTRIA BMX Racing CUP Rd. 3&4 - NÖ LM & Nachwuchs Cup Rd. 1&2 Vösendorf 2025
DESCRIPTION:
URL:https://www.bmx-austria.com/event/cycling-austria-bmx-racing-cup-rd-34-steirische-lm-nachwuchs-cup-2025-voesendorf-rd-12/
LOCATION:BMX Arena Vösendorf\, Kindbergstraße 12\, Vösendorf\, Niederösterreich\, 2331\, Österreich
CATEGORIES:BMX National
END:VEVENT
BEGIN:VEVENT
DTSTART;TZID=Europe/Berlin:20250510T080000
DTEND;TZID=Europe/Berlin:20250511T170000
DTSTAMP:20260425T130458
CREATED:20250420T143637Z
LAST-MODIFIED:20250513T110235Z
UID:670-1746864000-1746982800@www.bmx-austria.com
SUMMARY:Dr. AUER Alpe Adria CUP 1. & 2. Rd. Maribor – (SLO)  (first AA-Cup Event\, season opener)
DESCRIPTION:
URL:https://www.bmx-austria.com/event/dr-auer-alpe-adria-cup-1-2-rd-10-11-mai-maribor-slo-first-aa-cup-event-season-opener/
LOCATION:Niederösterreich
CATEGORIES:BMX International
END:VEVENT
BEGIN:VEVENT
DTSTART;TZID=Europe/Berlin:20250426T080000
DTEND;TZID=Europe/Berlin:20250427T170000
DTSTAMP:20260425T130458
CREATED:20250420T143103Z
LAST-MODIFIED:20250420T143458Z
UID:666-1745654400-1745773200@www.bmx-austria.com
SUMMARY:Cycling AUSTRIA BMX Racing CUP - Steirische LM & Nachwuchs Cup 2025 – Veitsch Rd. 1 & Rd. 2
DESCRIPTION:
URL:https://www.bmx-austria.com/event/cycling-austria-bmx-cup-steirische-lm-nachwuchs-cup-2025-veitsch-rd-1-rd-2/
LOCATION:Niederösterreich
CATEGORIES:Stmk. 2025
END:VEVENT
BEGIN:VEVENT
DTSTART;TZID=Europe/Berlin:20240914T080000
DTEND;TZID=Europe/Berlin:20240915T170000
DTSTAMP:20260425T130458
CREATED:20240910T101727Z
LAST-MODIFIED:20240910T101727Z
UID:608-1726300800-1726419600@www.bmx-austria.com
SUMMARY:Dr. Auer Alpe Adria BMX Championship - Cycling Austria BMX Racing Cup - Stmk. LM und ELFENTAU NWC
DESCRIPTION:
URL:https://www.bmx-austria.com/event/dr-auer-alpe-adria-bmx-championship-cycling-austria-bmx-racing-cup-stmk-lm-und-elfentau-nwc/
LOCATION:BMX Baierdorf\, Baierdorf-Umgebung 84\, 8184 Baierdorf-Umgebung
CATEGORIES:Alpe Adria 2024
END:VEVENT
BEGIN:VEVENT
DTSTART;TZID=Europe/Berlin:20240831T080000
DTEND;TZID=Europe/Berlin:20240901T170000
DTSTAMP:20260425T130458
CREATED:20240824T114440Z
LAST-MODIFIED:20240824T114524Z
UID:604-1725091200-1725210000@www.bmx-austria.com
SUMMARY:Cycling AUSTRIA BMX Cup - NÖ LM und Nachwuchs Cup -31. August & 01. September 2024 Vösendorf – (AUT)
DESCRIPTION:
URL:https://www.bmx-austria.com/event/cycling-austria-bmx-cup-noe-lm-und-nwc-31-august-01-september-2024-voesendorf-aut/
LOCATION:BMX Arena Vösendorf\, Kindbergstraße 12\, Vösendorf\, Niederösterreich\, 2331\, Österreich
CATEGORIES:BMX 2024
END:VEVENT
BEGIN:VEVENT
DTSTART;TZID=Europe/Berlin:20240817T110000
DTEND;TZID=Europe/Berlin:20240818T160000
DTSTAMP:20260425T130458
CREATED:20240613T053008Z
LAST-MODIFIED:20240613T053311Z
UID:558-1723892400-1723996800@www.bmx-austria.com
SUMMARY:Dr. AUER Alpe Adria CUP Rd. 09. & 10. and Dr. Auer Austrian BMX King&Queen – CA BMX Cup - Stmk. LM und NWC -17. & 18. August 2024 Mühlen – (AUT)
DESCRIPTION:
URL:https://www.bmx-austria.com/event/dr-auer-alpe-adria-cup-rd-09-10-and-austrian-bmx-kingqueen-stmk-lm-und-nwc-17-18-august-2024-muehlen-aut/
LOCATION:Dr. Auer BMX Arena Mühlen\, Mühlen\, Mühlen\, 8822\, Österreich
CATEGORIES:Alpe Adria 2024
ORGANIZER;CN="ASK%C3%96%20Dr.%20Auer%20BMX%20Racing%20Team%20Sport%20M%C3%BChlen":MAILTO:bmxkoxy@gmail.com
END:VEVENT
BEGIN:VEVENT
DTSTART;TZID=Europe/Berlin:20240706T120000
DTEND;TZID=Europe/Berlin:20240707T170000
DTSTAMP:20260425T130458
CREATED:20240613T110651Z
LAST-MODIFIED:20240613T110651Z
UID:562-1720267200-1720371600@www.bmx-austria.com
SUMMARY:Österreichische BMX Staatsmeisterschaft & Österreichische Meisterschaft - Steirische LM & Elfentau NW-Cup.
DESCRIPTION:
URL:https://www.bmx-austria.com/event/oesterreichische-bmx-staatsmeisterschaft-oesterreichische-meisterschaft-steirische-lm-elfentau-nw-cup/
LOCATION:BMX Baierdorf\, Baierdorf-Umgebung 84\, 8184 Baierdorf-Umgebung
CATEGORIES:Stmk. 2024
END:VEVENT
BEGIN:VEVENT
DTSTART;TZID=Europe/Berlin:20240608T120000
DTEND;TZID=Europe/Berlin:20240609T170000
DTSTAMP:20260425T130458
CREATED:20240425T115754Z
LAST-MODIFIED:20240425T115754Z
UID:541-1717848000-1717952400@www.bmx-austria.com
SUMMARY:Dr. AUER Alpe Adria CUP - Rd. 07. & 08. Sopron – (HUN)
DESCRIPTION:
URL:https://www.bmx-austria.com/event/dr-auer-alpe-adria-cup-rd-07-08-sopron-hun/
LOCATION:BMX Sopron\, 9400\, Sopron\, IV. László király u. 65\, 9400 Hungary\, 9400\, Ungarn
CATEGORIES:Alpe Adria 2024
END:VEVENT
BEGIN:VEVENT
DTSTART;TZID=Europe/Berlin:20240528T080000
DTEND;TZID=Europe/Berlin:20240602T170000
DTSTAMP:20260425T130458
CREATED:20240425T115011Z
LAST-MODIFIED:20240425T115151Z
UID:537-1716883200-1717347600@www.bmx-austria.com
SUMMARY:BMX UEC BMX European Championship Verona – (ITA)
DESCRIPTION:
URL:https://www.bmx-austria.com/event/bmx-uec-bmx-european-championship-verona-ita/
LOCATION:BMX Olympic Arena Verona\, Via Sogare 1\, Verona\, 37138\, Italien
CATEGORIES:UEC 2024
END:VEVENT
BEGIN:VEVENT
DTSTART;TZID=Europe/Berlin:20240518T120000
DTEND;TZID=Europe/Berlin:20240519T170000
DTSTAMP:20260425T130458
CREATED:20240425T112551Z
LAST-MODIFIED:20240506T194640Z
UID:535-1716033600-1716138000@www.bmx-austria.com
SUMMARY:Dr. AUER Alpe Adria CUP - Rd. 05. & 06. Cycling Austria BMX Cup R. 3 & 4 Vösendorf – (AUT)
DESCRIPTION:
URL:https://www.bmx-austria.com/event/dr-auer-alpe-adria-cup-rd-05-06-voesendorf-aut/
LOCATION:BMX Arena Vösendorf\, Kindbergstraße 12\, Vösendorf\, Niederösterreich\, 2331\, Österreich
CATEGORIES:Alpe Adria 2024
END:VEVENT
BEGIN:VEVENT
DTSTART;TZID=Europe/Berlin:20240511T120000
DTEND;TZID=Europe/Berlin:20240512T170000
DTSTAMP:20260425T130458
CREATED:20240425T111833Z
LAST-MODIFIED:20240425T111833Z
UID:533-1715428800-1715533200@www.bmx-austria.com
SUMMARY:Dr. AUER Alpe Adria CUP - Rd. 03. & 04. Maribor – (SLO)
DESCRIPTION:
URL:https://www.bmx-austria.com/event/dr-auer-alpe-adria-cup-rd-03-04-maribor-slo/
LOCATION:BSX Maribor\, Borštnikova ulica 138\, 2000 Maribor\, Slovenien
CATEGORIES:Alpe Adria 2024
END:VEVENT
BEGIN:VEVENT
DTSTART;TZID=Europe/Berlin:20240427T120000
DTEND;TZID=Europe/Berlin:20240428T170000
DTSTAMP:20260425T130458
CREATED:20240425T110623Z
LAST-MODIFIED:20240425T110623Z
UID:531-1714219200-1714323600@www.bmx-austria.com
SUMMARY:Cycling AUSTRIA BMX CUP – Steirische LM & ELFENTAU Nachwuchs Cup 2024 – Veitsch Rd. 1 & Rd. 2
DESCRIPTION:
URL:https://www.bmx-austria.com/event/cycling-austria-bmx-cup-steirische-lm-elfentau-nachwuchs-cup-2024-veitsch-rd-1-rd-2/
LOCATION:Veitsch\, Veitsch\, Steiermark\, Österreich
CATEGORIES:Stmk. 2024
END:VEVENT
BEGIN:VEVENT
DTSTART;TZID=Europe/Berlin:20240420T080000
DTEND;TZID=Europe/Berlin:20240421T170000
DTSTAMP:20260425T130458
CREATED:20240301T204628Z
LAST-MODIFIED:20240301T204656Z
UID:497-1713600000-1713718800@www.bmx-austria.com
SUMMARY:Dr. AUER Alpe Adria CUP 1. & 2. Rd. – 20. & 21. Apr. Ljubljana – (SLO)  (first AA-Cup Event\, season opener)
DESCRIPTION:
URL:https://www.bmx-austria.com/event/dr-auer-alpe-adria-cup-1-2-rd-20-21-apr-ljubljana-slo-first-aa-cup-event-season-opener/
LOCATION:BMX ARENA Ljubljana\, Stolpniška ulica 1\, 1000 Ljubljana\, 1000
CATEGORIES:Alpe Adria 2024
END:VEVENT
BEGIN:VEVENT
DTSTART;TZID=Europe/Berlin:20240413T080000
DTEND;TZID=Europe/Berlin:20240414T170000
DTSTAMP:20260425T130458
CREATED:20240301T204926Z
LAST-MODIFIED:20240301T205110Z
UID:499-1712995200-1713114000@www.bmx-austria.com
SUMMARY:UEC BMX European Cup Rd. 5 & 6 – 13. & 14. April - Benátky  – (CZE)
DESCRIPTION:
URL:https://www.bmx-austria.com/event/uec-bmx-european-cup-rd-7-8-13-14-april-benatky-cze/
LOCATION:BIKROSOVÝ AREÁL BENÁTKY NAD JIZEROU\, Tschechische Republik
CATEGORIES:UEC 2024
END:VEVENT
BEGIN:VEVENT
DTSTART;TZID=Europe/Berlin:20240330T080000
DTEND;TZID=Europe/Berlin:20240401T170000
DTSTAMP:20260425T130458
CREATED:20240227T213719Z
LAST-MODIFIED:20240301T205942Z
UID:477-1711785600-1711990800@www.bmx-austria.com
SUMMARY:UEC BMX European Cup Rd. 3 & 4 – 30. März bis 01. April  - Zolder – (BEL)
DESCRIPTION:
URL:https://www.bmx-austria.com/event/bmx-uec-bmx-european-cup-rd-1-2-30-01-april-zolder-bel/
LOCATION:BMX Circuit Zolder\, Terlaemenlaan 30\, 3550 Heusden-Zolder\, 3550\, Belgien
CATEGORIES:UEC 2024
END:VEVENT
BEGIN:VEVENT
DTSTART;TZID=Europe/Berlin:20240309T080000
DTEND;TZID=Europe/Berlin:20240311T170000
DTSTAMP:20260425T130458
CREATED:20240227T213348Z
LAST-MODIFIED:20240227T214042Z
UID:475-1709971200-1710176400@www.bmx-austria.com
SUMMARY:UEC BMX European Cup Rd. 1 & 2 – 09. & 10. März  - Sarrians – (FRA)
DESCRIPTION:
URL:https://www.bmx-austria.com/event/bmx-uec-bmx-european-cup-rd-1-2-09-10-maerz-sarrians-fra/
LOCATION:Niederösterreich
CATEGORIES:UEC 2024
END:VEVENT
END:VCALENDAR